BEGIN:VCALENDAR
VERSION:2.0
PRODID:-//ChamberMaster//Event Calendar 2.0//EN
METHOD:PUBLISH
X-PUBLISHED-TTL:P3D
REFRESH-INTERVAL:P3D
CALSCALE:GREGORIAN
BEGIN:VEVENT
DTSTART:20220705T020000Z
DTEND:20220705T030000Z
X-MICROSOFT-CDO-ALLDAYEVENT:FALSE
SUMMARY:2022 Fourth of July Fireworks Celebration
DESCRIPTION:The Gulf County TDC and The City of Port St Joe will be bringing you a spectacular firework celebration at 10:00 PM ET on July 4th.  You will be able to view the show from the Port St. Joe downtown area and George Core Park area.
X-ALT-DESC;FMTTYPE=text/html:<span style="color: rgb(53\, 53\, 51)\; font-family: Karla\, sans-serif\; font-size: 20px\;">The Gulf County TDC and The City of Port St Joe will be bringing you a spectacular firework celebration at 10:00 PM ET on July 4th.&nbsp\; You will be able to view the show from the Port St. Joe downtown area and George Core Park area.</span>
LOCATION:Port St. Joe downtown area and George Core Park area.
UID:e.2541.17982
SEQUENCE:3
DTSTAMP:20260421T053459Z
URL:https://business.gulfchamber.org/events/details/2022-fourth-of-july-fireworks-celebration-17982
END:VEVENT

END:VCALENDAR
