BEGIN:VCALENDAR
VERSION:2.0
PRODID:-//ChamberMaster//Event Calendar 2.0//EN
METHOD:PUBLISH
X-PUBLISHED-TTL:P3D
REFRESH-INTERVAL:P3D
CALSCALE:GREGORIAN
BEGIN:VEVENT
DTSTART:20230218T150000Z
DTEND:20230218T220000Z
X-MICROSOFT-CDO-ALLDAYEVENT:FALSE
SUMMARY:2023 Prom Project Runway
DESCRIPTION:The 2023 Junior Service League Prom Project Runway is our 3rd annual Prom Project!\n\n\n\nWhat - This event is open to the community\, young and young at heart.\n\nFirst\, local high schoolers will strut their stuff on the runway modeling this year's dress\, shoe and accessory selections. Models will be pampered by local stylists donating their time and services.\n\nFor the public\, we will have light bites and sips\, a silent auction\, and JSL Sustainer recognition.\n\nFollowing the fashion show\, those needing a dress for this year's prom will get to choose a dress from our selection to take home with them.
X-ALT-DESC;FMTTYPE=text/html:The 2023 Junior Service League Prom Project Runway is our 3rd annual Prom Project!<br />\n<br />\nWhat - This event is open to the community\, young and young at heart.<br />\nFirst\, local high schoolers will strut their stuff on the runway modeling this year&#39\;s dress\, shoe and accessory selections. Models will be pampered by local stylists donating their time and services.<br />\nFor the public\, we will have light bites and sips\, a silent auction\, and JSL Sustainer recognition.<br />\nFollowing the fashion show\, those needing a dress for this year&#39\;s prom will get to choose a dress from our selection to take home with them.
LOCATION:Where - The Port Inn Chapel Hall\, 309 6th Street\, Port St Joe election for those needing a prom dress is 12pm to 5pm Eastern (11am to 4pm Central).
UID:e.2541.18266
SEQUENCE:3
DTSTAMP:20260423T012549Z
URL:https://business.gulfchamber.org/events/details/2023-prom-project-runway-18266
END:VEVENT

END:VCALENDAR
