BEGIN:VCALENDAR
VERSION:2.0
PRODID:-//ChamberMaster//Event Calendar 2.0//EN
METHOD:PUBLISH
X-PUBLISHED-TTL:P3D
REFRESH-INTERVAL:P3D
CALSCALE:GREGORIAN
BEGIN:VEVENT
DTSTART:20230922T220000Z
DTEND:20231020T220000Z
X-MICROSOFT-CDO-ALLDAYEVENT:FALSE
SUMMARY:2023 Thru The Lens Photography Show
DESCRIPTION:Thru The Lens Photography Show at The Joe Center for the Arts is Friday\, September 22\, 2023\, from 6-8 PM ET. Come enjoy beautiful photography and explore the art on display. Free and open to the public.\n\n\n\nThe Joe Center for the Arts 201 Reid Avenue in Port St. Joe. www.thejoecenter.org
X-ALT-DESC;FMTTYPE=text/html:<div>\n<div>Thru The Lens Photography Show at The Joe Center for the Arts is Friday\, September 22\, 2023\, from 6-8 PM ET. Come enjoy beautiful photography and explore the art on display. Free and open to the public.</div>\n</div>\n\n<div>\n<div>The Joe Center for the Arts 201 Reid Avenue in Port St. Joe. <span style="font-family:inherit"><a class="x1i10hfl xjbqb8w x6umtig x1b1mbwd xaqea5y xav7gou x9f619 x1ypdohk xt0psk2 xe8uvvx xdj266r x11i5rnm xat24cr x1mh8g0r xexx8yu x4uap5 x18d9i69 xkhd6sd x16tdsg8 x1hl2dhg xggy1nq x1a2a7pz xt0b8zv x1fey0fg" href="https://l.facebook.com/l.php?u=http%3A%2F%2Fwww.thejoecenter.org%2F%3Ffbclid%3DIwAR3f3m4uPx3orloXHLgVhLxFrfYctbxmrrRwTLrPCtTpEc0iYj4PLxO4TT4&amp\;h=AT3gvWXfddY7WKY73lp-RCJsqJlvpVL8haXPFhDOE693Advxa7eKfVmVLqJe9Q32xtbpDau-7GvRjFbfw9xGgvlRlDMiPL5TZuIvXz09jaSEINd1bnN3G3DAP6qSwu4hpdDxIhyHwhwu280dzJhQ&amp\;__tn__=-UK-R&amp\;c[0]=AT3JC-GaxDDU7_1OvDcweEjkl7uX0hx4e9hPpbBWsb1jHJiR5IR2Y-7RVpEy_8_QZnCvCdv-3uwU9q6-Zpg97BhbpJtu2t_2wOXbne2UGV0yqoWtwSpRKknpYUyb41ADyaCoNFuXXokTp7cgdjESWXW53fGp8g" rel="nofollow noreferrer" style="cursor: pointer\; text-decoration-line: none\; border-width: 0px\; border-style: initial\; border-color: initial\; outline: none\; list-style: none\; margin: 0px\; text-align: inherit\; padding: 0px\; -webkit-tap-highlight-color: transparent\; box-sizing: border-box\; touch-action: manipulation\; background-color: transparent\; display: inline\; font-family: inherit\;" tabindex="0" target="_blank">www.thejoecenter.org</a></span></div>\n</div>\n
LOCATION:201 Reid Avenue\, Port St. Joe
UID:e.2541.18459
SEQUENCE:3
DTSTAMP:20260423T040423Z
URL:https://business.gulfchamber.org/events/details/2023-thru-the-lens-photography-show-18459
END:VEVENT

END:VCALENDAR
