BEGIN:VCALENDAR
VERSION:2.0
PRODID:-//ChamberMaster//Event Calendar 2.0//EN
METHOD:PUBLISH
X-PUBLISHED-TTL:P3D
REFRESH-INTERVAL:P3D
CALSCALE:GREGORIAN
BEGIN:VEVENT
DTSTART;VALUE=DATE:20240323
DTEND;VALUE=DATE:20240324
TRANSP:TRANSPARENT
X-MICROSOFT-CDO-ALLDAYEVENT:TRUE
SUMMARY:Blues on Reid
DESCRIPTION:Get ready to celebrate the Blues in Port St. Joe\, Florida!\n\n\n\nThe                    will be Saturday - March 23 - starting at noon.
X-ALT-DESC;FMTTYPE=text/html:<div class="xdj266r x11i5rnm xat24cr x1mh8g0r x1vvkbs x126k92a" style="margin: 0px\; overflow-wrap: break-word\; white-space-collapse: preserve\; font-family: &quot\;Segoe UI Historic&quot\;\, &quot\;Segoe UI&quot\;\, Helvetica\, Arial\, sans-serif\; color: rgb(5\, 5\, 5)\; font-size: 18.75px\;">\n<div dir="auto" style="font-family: inherit\;">Get ready to celebrate the Blues in Port St. Joe\, Florida!</div>\n</div>\n\n<div class="x11i5rnm xat24cr x1mh8g0r x1vvkbs xtlvy1s x126k92a" style="margin: 0.5em 0px 0px\; overflow-wrap: break-word\; white-space-collapse: preserve\; font-family: &quot\;Segoe UI Historic&quot\;\, &quot\;Segoe UI&quot\;\, Helvetica\, Arial\, sans-serif\; color: rgb(5\, 5\, 5)\; font-size: 18.75px\;">\n<div dir="auto" style="font-family: inherit\;">The &#120814\;&#120812\;&#120814\;&#120816\; &#120277\;&#120313\;&#120322\;&#120306\;&#120320\; &#120316\;&#120315\; &#120293\;&#120306\;&#120310\;&#120305\; will be Saturday - March 23 - starting at noon.</div>\n</div>\n
LOCATION:The will be Saturday - March 23 - starting at noon ET: Bobby Blackmon The Cat Daddy Blues Band Kelly & The Healers Corey Hall Music JC and The Backscratchers ***Performance times will be confirmed at a later date. Mark your calendars for an amazing Saturday of FREE music right here on Reid Avenue\, in Downtown Port St. Joe\, FL! There will be plenty of vendors for you and the kids to enjoy. And don't forget to stop and support all Reid Avenue's merchants who will be open for business. Bring your own lawn-chair and enjoy the show!
UID:e.2541.18467
SEQUENCE:3
DTSTAMP:20260420T030528Z
URL:https://business.gulfchamber.org/events/details/blues-on-reid-18467
END:VEVENT

END:VCALENDAR
