BEGIN:VCALENDAR
VERSION:2.0
PRODID:-//ChamberMaster//Event Calendar 2.0//EN
METHOD:PUBLISH
X-PUBLISHED-TTL:P3D
REFRESH-INTERVAL:P3D
CALSCALE:GREGORIAN
BEGIN:VEVENT
DTSTART:20221210T220000Z
DTEND:20221211T020000Z
X-MICROSOFT-CDO-ALLDAYEVENT:FALSE
SUMMARY:Christmas on the Coast Parade
DESCRIPTION:Join us for the Annual Christmas on the Coast Parade on Reid Avenue in downtown Port St. Joe on Saturday\, December 10\, 2022
X-ALT-DESC;FMTTYPE=text/html:<span style="color: rgb(5\, 5\, 5)\; font-family: &quot\;Segoe UI Historic&quot\;\, &quot\;Segoe UI&quot\;\, Helvetica\, Arial\, sans-serif\; font-size: 18.75px\;">Join us for the Annual Christmas on the Coast Parade on Reid Avenue in downtown Port St. Joe on Saturday\, December 10\, 2022</span>
LOCATION:Judging of the floats will begin at 5:00 PM ET with categories: Schools & Non-Profit\, Family & Friends\, Business\, and Faith Based. The parade will begin at 6:00 PM ET. We look forward to seeing you there!
UID:e.2541.17995
SEQUENCE:3
DTSTAMP:20260422T193830Z
URL:https://business.gulfchamber.org/events/details/christmas-on-the-coast-parade-17995
END:VEVENT

END:VCALENDAR
