BEGIN:VCALENDAR
VERSION:2.0
PRODID:-//ChamberMaster//Event Calendar 2.0//EN
METHOD:PUBLISH
X-PUBLISHED-TTL:P3D
REFRESH-INTERVAL:P3D
CALSCALE:GREGORIAN
BEGIN:VEVENT
DTSTART:20241025T120000Z
DTEND:20241025T160000Z
X-MICROSOFT-CDO-ALLDAYEVENT:FALSE
SUMMARY:Cosmetic Injectable Event at Dermatology Specialists of FL
DESCRIPTION:Schedule your appointment with Angela Mercer\, PA-C for Botox or Dysport at event pricing\, 20% off fillers\, and/or $500/treatment SKINVIVE by JUVEDERM.\n\n\n\nLimited appointments available on October 25 from 8:00AM-12:00PM. Call (850) 233-3376 to schedule.\n\n\n\nRules & restrictions apply. See staff or visit aquamedicalspa.com/specials-events/ for complete details.
X-ALT-DESC;FMTTYPE=text/html:Schedule your appointment with Angela Mercer\, PA-C for Botox or Dysport at event pricing\, 20% off fillers\, and/or $500/treatment SKINVIVE by JUVEDERM.<br />\n<br />\nLimited appointments available on October 25 from 8:00AM-12:00PM. Call (850) 233-3376 to schedule.<br />\n<br />\nRules &amp\; restrictions apply. See staff or visit aquamedicalspa.com/specials-events/ for complete details.
LOCATION:212 W Hwy 98\, Suite B Port St. Joe\, FL
UID:e.2541.18749
SEQUENCE:3
DTSTAMP:20260423T100203Z
URL:https://business.gulfchamber.org/events/details/cosmetic-injectable-event-at-dermatology-specialists-of-fl-10-25-2024-18749
END:VEVENT

END:VCALENDAR
