BEGIN:VCALENDAR
VERSION:2.0
PRODID:-//ChamberMaster//Event Calendar 2.0//EN
METHOD:PUBLISH
X-PUBLISHED-TTL:P3D
REFRESH-INTERVAL:P3D
CALSCALE:GREGORIAN
BEGIN:VEVENT
DTSTART:20240309T150000Z
DTEND:20240309T200000Z
X-MICROSOFT-CDO-ALLDAYEVENT:FALSE
SUMMARY:Duck Derby Community Event
DESCRIPTION:INAGURAL DUCK DERBY COMMUNITY EVENT\n\nHosted by: GFWC WEWAHITCHKA Woman's Club\n\n\n\n	Wewa High Cross Country Team kicks off Duck Derby with a 5K! Lace up for the quackin' fun that starts at 9am!\n\n\n\n\n\n	What's a Duck Derby? rubber ducks will "race" across Lake Alice! How does it work? "Adopt a Duck" for $5. The lucky owners of the first ducks to cross the finish line will win one of our exciting grand prizes!\n\n\n\nFor more information\, become a sponsor or set up a booth please contact: Michele at 610-334-1879 or Caroline at 850-247-2052!
X-ALT-DESC;FMTTYPE=text/html:<div>\n<div>\n<p>INAGURAL DUCK DERBY COMMUNITY EVENT</p>\n\n<p>Hosted by: GFWC WEWAHITCHKA Woman&#39\;s Club</p>\n</div>\n\n<ul>\n	<li>Wewa High Cross Country Team kicks off Duck Derby with a 5K! Lace up for the quackin&#39\; fun that starts at 9am!</li>\n</ul>\n\n<div>\n<div>\n<ul>\n	<li>What&rsquo\;s a Duck Derby? rubber ducks will &ldquo\;race&rdquo\; across Lake Alice! How does it work? &ldquo\;Adopt a Duck&rdquo\; for $5. The lucky owners of the first ducks to cross the finish line will win one of our exciting grand prizes!</li>\n</ul>\n\n<div>\n<p>For more information\, become a sponsor or set up a booth please contact: Michele at 610-334-1879 or Caroline at 850-247-2052!</p>\n</div>\n</div>\n</div>\n</div>\n
LOCATION:Lake Alice Park\, Wewahitchka
UID:e.2541.18466
SEQUENCE:3
DTSTAMP:20260420T010228Z
URL:https://business.gulfchamber.org/events/details/duck-derby-community-event-18466
END:VEVENT

END:VCALENDAR
