BEGIN:VCALENDAR
VERSION:2.0
PRODID:-//ChamberMaster//Event Calendar 2.0//EN
METHOD:PUBLISH
X-PUBLISHED-TTL:P3D
REFRESH-INTERVAL:P3D
CALSCALE:GREGORIAN
BEGIN:VEVENT
DTSTART:20240328T130000Z
DTEND:20240328T160000Z
X-MICROSOFT-CDO-ALLDAYEVENT:FALSE
SUMMARY:Florida SBDC at UWF Presents “Starting a Business” – PC
DESCRIPTION:Have an idea for a business\, but not sure where to start? Take the first step with the Florida SBDC's "Starting a Business" workshop on March 28 from 9:00 am   12:00 pm. In this workshop\, we will discuss the fundamentals of launching your new venture\, including how to determine feasibility and legal structures\, licensing and permitting\, funding options for your business and basic marketing strategies to help you get started! To register\, visit our website at www.sbdc.uwf.edu and click on "Training & Events".  Presented by Marina Boeira-Tarulli\, Business Consultant\, Florida SBDC at UWF.  Sponsored by Cadence Bank and Wells Fargo.
X-ALT-DESC;FMTTYPE=text/html:<span style="color:black"><span style="font-family:calibri\,sans-serif">Have an idea for a business\, but not sure where to start? </span></span><span style="font-family:calibri\,sans-serif">Take the first step with the Florida SBDC&rsquo\;s &ldquo\;Starting a Business&rdquo\; workshop on March 28 from 9:00 am &ndash\; 12:00 pm. <span style="color:black">In this workshop\, we will discuss&nbsp\;the fundamentals of launching your new venture\, including&nbsp\;how to determine feasibility and legal structures\, licensing and permitting\,&nbsp\;funding options for your business and basic marketing strategies to help you get started! </span>To register\, visit our website at </span><a href="http://www.sbdc.uwf.edu/"><span style="font-family:calibri\,sans-serif">www.sbdc.uwf.edu</span></a><span style="font-family:calibri\,sans-serif"> and click on &ldquo\;Training &amp\; Events&rdquo\;.&nbsp\; Presented by <span style="color:#3C4043">Marina Boeira-Tarulli\, Business Consultant</span>\, Florida SBDC at UWF.&nbsp\; Sponsored by Cadence Bank and Wells Fargo.</span>
LOCATION:Lynn Haven Garden Club\, 307 Ohio Ave\, Lynn Haven\, FL 32444
UID:e.2541.18474
SEQUENCE:3
DTSTAMP:20260420T005647Z
URL:https://business.gulfchamber.org/events/details/florida-sbdc-at-uwf-presents-starting-a-business-pc-02-28-2024-18474
END:VEVENT

END:VCALENDAR
