BEGIN:VCALENDAR
VERSION:2.0
PRODID:-//ChamberMaster//Event Calendar 2.0//EN
METHOD:PUBLISH
X-PUBLISHED-TTL:P3D
REFRESH-INTERVAL:P3D
CALSCALE:GREGORIAN
BEGIN:VEVENT
DTSTART:20220703T140000Z
DTEND:20220703T200000Z
X-MICROSOFT-CDO-ALLDAYEVENT:FALSE
SUMMARY:Forgotten Coast Sea Turtle Festival
DESCRIPTION:Sunday\, July 3\, 2022\, from 11 AM - 4 PM ET in George Core Park in beautiful Port St. Joe\, Florida. Live Music with the Hunter Wall Band\, Food Trucks\, Turtle Talks\, Arts & Craft Vendors\, Education & Conservation Groups\, Kids Activities\, and of course\, the FAMOUS Cloe's Magical Lemonade! New this year is our Sea Creature Parade so stay tuned for more details!
X-ALT-DESC;FMTTYPE=text/html:<span style="color: rgb(5\, 5\, 5)\; font-family: &quot\;Segoe UI Historic&quot\;\, &quot\;Segoe UI&quot\;\, Helvetica\, Arial\, sans-serif\; font-size: 15px\;">Sunday\, July 3\, 2022\, from 11 AM - 4 PM ET in George Core Park in beautiful Port St. Joe\, Florida. Live Music with the Hunter Wall Band\, Food Trucks\, Turtle Talks\, Arts &amp\; Craft Vendors\, Education &amp\; Conservation Groups\, Kids Activities\, and of course\, the FAMOUS Cloe's Magical Lemonade! New this year is our Sea Creature Parade so stay tuned for more details!</span>
LOCATION:George Core Park in beautiful Port St. Joe\, Florida.
UID:e.2541.17987
SEQUENCE:3
DTSTAMP:20260421T054606Z
URL:https://business.gulfchamber.org/events/details/forgotten-coast-sea-turtle-festival-17987
END:VEVENT

END:VCALENDAR
