BEGIN:VCALENDAR
VERSION:2.0
PRODID:-//ChamberMaster//Event Calendar 2.0//EN
METHOD:PUBLISH
X-PUBLISHED-TTL:P3D
REFRESH-INTERVAL:P3D
CALSCALE:GREGORIAN
BEGIN:VEVENT
DTSTART:20220702T140000Z
DTEND:20220702T220000Z
X-MICROSOFT-CDO-ALLDAYEVENT:FALSE
SUMMARY:Mexico Beach Sweets Birthday Party!
DESCRIPTION:Mexico Beach Sweets is turning 1!\n\nCome help us celebrate!\n\nWe will have children's activities throughout the day on our patio\, and lots of sweet treats for the whole family!\n\n12 until 8 Central Time\, July 2nd\, 2022\n\n#mexicobeachsweets\n\n#mexicobeach\n\n#portstjoe
X-ALT-DESC;FMTTYPE=text/html:<div class="kvgmc6g5 cxmmr5t8 oygrvhab hcukyx3x c1et5uql" style="overflow-wrap: break-word\; margin: 0px\; font-family: &quot\;Segoe UI Historic&quot\;\, &quot\;Segoe UI&quot\;\, Helvetica\, Arial\, sans-serif\; color: rgb(5\, 5\, 5)\; font-size: 15px\;">Mexico Beach Sweets is turning 1!</div>\n\n<div class="cxmmr5t8 oygrvhab hcukyx3x c1et5uql o9v6fnle" style="overflow-wrap: break-word\; margin: 0.5em 0px 0px\; font-family: &quot\;Segoe UI Historic&quot\;\, &quot\;Segoe UI&quot\;\, Helvetica\, Arial\, sans-serif\; color: rgb(5\, 5\, 5)\; font-size: 15px\;">Come help us celebrate!</div>\n\n<div class="cxmmr5t8 oygrvhab hcukyx3x c1et5uql o9v6fnle" style="overflow-wrap: break-word\; margin: 0.5em 0px 0px\; font-family: &quot\;Segoe UI Historic&quot\;\, &quot\;Segoe UI&quot\;\, Helvetica\, Arial\, sans-serif\; color: rgb(5\, 5\, 5)\; font-size: 15px\;">We will have children&#39\;s activities throughout the day on our patio\, and lots of sweet treats for the whole family!</div>\n\n<div class="cxmmr5t8 oygrvhab hcukyx3x c1et5uql o9v6fnle" style="overflow-wrap: break-word\; margin: 0.5em 0px 0px\; font-family: &quot\;Segoe UI Historic&quot\;\, &quot\;Segoe UI&quot\;\, Helvetica\, Arial\, sans-serif\; color: rgb(5\, 5\, 5)\; font-size: 15px\;">12 until 8 Central Time\, July 2nd\, 2022<br />\n<a class="oajrlxb2 g5ia77u1 qu0x051f esr5mh6w e9989ue4 r7d6kgcz rq0escxv nhd2j8a9 nc684nl6 p7hjln8o kvgmc6g5 cxmmr5t8 oygrvhab hcukyx3x jb3vyjys rz4wbd8a qt6c0cv9 a8nywdso i1ao9s8h esuyzwwr f1sip0of lzcic4wl gpro0wi8 oo9gr5id lrazzd5p" href="https://www.facebook.com/hashtag/mexicobeachsweets?__eep__=6&amp\;__cft__[0]=AZXCveek9oYfjYwBBE4OpLGMGDD4RRbhrCoPEVGyjvw9KpCKCrpxbHeGTWdD6uYGkt_Za1uZAuVWx52v_MTgwVp6r3ucTnYWGnmV1F8fhjLEGIhqLOhuEqJVy2PkNOV2-qQ&amp\;__tn__=q" role="link" style="color: var(--primary-text)\; cursor: pointer\; text-decoration-line: none\; outline: none\; list-style: none\; border-width: 0px\; border-style: initial\; border-color: initial\; padding: 0px\; margin: 0px\; touch-action: manipulation\; background-color: transparent\; text-align: inherit\; font-weight: 600\; display: inline\; -webkit-tap-highlight-color: transparent\; box-sizing: border-box\; font-family: inherit\;" tabindex="0">#mexicobeachsweets</a><br />\n<a class="oajrlxb2 g5ia77u1 qu0x051f esr5mh6w e9989ue4 r7d6kgcz rq0escxv nhd2j8a9 nc684nl6 p7hjln8o kvgmc6g5 cxmmr5t8 oygrvhab hcukyx3x jb3vyjys rz4wbd8a qt6c0cv9 a8nywdso i1ao9s8h esuyzwwr f1sip0of lzcic4wl gpro0wi8 oo9gr5id lrazzd5p" href="https://www.facebook.com/hashtag/mexicobeach?__eep__=6&amp\;__cft__[0]=AZXCveek9oYfjYwBBE4OpLGMGDD4RRbhrCoPEVGyjvw9KpCKCrpxbHeGTWdD6uYGkt_Za1uZAuVWx52v_MTgwVp6r3ucTnYWGnmV1F8fhjLEGIhqLOhuEqJVy2PkNOV2-qQ&amp\;__tn__=q" role="link" style="color: var(--primary-text)\; cursor: pointer\; text-decoration-line: none\; outline: none\; list-style: none\; border-width: 0px\; border-style: initial\; border-color: initial\; padding: 0px\; margin: 0px\; touch-action: manipulation\; background-color: transparent\; text-align: inherit\; font-weight: 600\; display: inline\; -webkit-tap-highlight-color: transparent\; box-sizing: border-box\; font-family: inherit\;" tabindex="0">#mexicobeach</a><br />\n<a class="oajrlxb2 g5ia77u1 qu0x051f esr5mh6w e9989ue4 r7d6kgcz rq0escxv nhd2j8a9 nc684nl6 p7hjln8o kvgmc6g5 cxmmr5t8 oygrvhab hcukyx3x jb3vyjys rz4wbd8a qt6c0cv9 a8nywdso i1ao9s8h esuyzwwr f1sip0of lzcic4wl gpro0wi8 oo9gr5id lrazzd5p" href="https://www.facebook.com/hashtag/portstjoe?__eep__=6&amp\;__cft__[0]=AZXCveek9oYfjYwBBE4OpLGMGDD4RRbhrCoPEVGyjvw9KpCKCrpxbHeGTWdD6uYGkt_Za1uZAuVWx52v_MTgwVp6r3ucTnYWGnmV1F8fhjLEGIhqLOhuEqJVy2PkNOV2-qQ&amp\;__tn__=q" role="link" style="color: var(--primary-text)\; cursor: pointer\; text-decoration-line: none\; outline: none\; list-style: none\; border-width: 0px\; border-style: initial\; border-color: initial\; padding: 0px\; margin: 0px\; touch-action: manipulation\; background-color: transparent\; text-align: inherit\; font-weight: 600\; display: inline\; -webkit-tap-highlight-color: transparent\; box-sizing: border-box\; font-family: inherit\;" tabindex="0">#portstjoe</a>&nbsp\;</div>\n
LOCATION:2802-C Hwy 98\, Mexico Beach\, FL 32456
UID:e.2541.17986
SEQUENCE:3
DTSTAMP:20260421T054130Z
URL:https://business.gulfchamber.org/events/details/mexico-beach-sweets-birthday-party-17986
END:VEVENT

END:VCALENDAR
