BEGIN:VCALENDAR
VERSION:2.0
PRODID:-//ChamberMaster//Event Calendar 2.0//EN
METHOD:PUBLISH
X-PUBLISHED-TTL:P3D
REFRESH-INTERVAL:P3D
CALSCALE:GREGORIAN
BEGIN:VEVENT
DTSTART:20220724T000000Z
DTEND:20220724T023000Z
X-MICROSOFT-CDO-ALLDAYEVENT:FALSE
SUMMARY:Movie Night: Encanto at WindMark Beach
DESCRIPTION:Join us for a FREE family friendly movie at the WindMark Beach community!\n\nWalt Disney Animation Studios' "Encanto" tells the tale of an extraordinary family\, the Madrigals\, who live hidden in the mountains of Colombia\, in a magical house\, in a vibrant town\, in a wondrous\, charmed place called an Encanto. The magic of the Encanto has blessed every child in the family with a unique gift from super strength to the power to heal every child except one\, Mirabel (voice of Stephanie Beatriz). But when she discovers that the magic surrounding the Encanto is in danger\, Mirabel decides that she\, the only ordinary Madrigal\, might just be her exceptional family's last hope.
X-ALT-DESC;FMTTYPE=text/html:<div class="kvgmc6g5 cxmmr5t8 oygrvhab hcukyx3x c1et5uql" style="overflow-wrap: break-word\; margin: 0px\; font-family: &quot\;Segoe UI Historic&quot\;\, &quot\;Segoe UI&quot\;\, Helvetica\, Arial\, sans-serif\; color: rgb(5\, 5\, 5)\; font-size: 15px\;">Join us for a FREE family friendly movie at the WindMark Beach community!</div>\n\n<div class="cxmmr5t8 oygrvhab hcukyx3x c1et5uql o9v6fnle" style="overflow-wrap: break-word\; margin: 0.5em 0px 0px\; font-family: &quot\;Segoe UI Historic&quot\;\, &quot\;Segoe UI&quot\;\, Helvetica\, Arial\, sans-serif\; color: rgb(5\, 5\, 5)\; font-size: 15px\;">Walt Disney Animation Studios&rsquo\; &ldquo\;Encanto&rdquo\; tells the tale of an extraordinary family\, the Madrigals\, who live hidden in the mountains of Colombia\, in a magical house\, in a vibrant town\, in a wondrous\, charmed place called an Encanto. The magic of the Encanto has blessed every child in the family with a unique gift from super strength to the power to heal&mdash\;every child except one\, Mirabel (voice of Stephanie Beatriz). But when she discovers that the magic surrounding the Encanto is in danger\, Mirabel decides that she\, the only ordinary Madrigal\, might just be her exceptional family&rsquo\;s last hope.</div>\n
LOCATION:WHERE: WindMark Beach Village Center\, 101 Good Morning St\, Port St Joe\, FL 32456
UID:e.2541.17990
SEQUENCE:3
DTSTAMP:20260421T054318Z
URL:https://business.gulfchamber.org/events/details/movie-night-encanto-at-windmark-beach-17990
END:VEVENT

END:VCALENDAR
