BEGIN:VCALENDAR
VERSION:2.0
PRODID:-//ChamberMaster//Event Calendar 2.0//EN
METHOD:PUBLISH
X-PUBLISHED-TTL:P3D
REFRESH-INTERVAL:P3D
CALSCALE:GREGORIAN
BEGIN:VEVENT
DTSTART;VALUE=DATE:20220728
DTEND;VALUE=DATE:20220905
TRANSP:TRANSPARENT
X-MICROSOFT-CDO-ALLDAYEVENT:TRUE
SUMMARY:Operation Tourch
DESCRIPTION:The Camp Gordon Johnston World War II Museum in Carrabelle has extended their special exhibit on Operation Torch: the Campaign in North Africa through Saturday\, September 3rd.  Operation Torch\, held in November of 1942\, was the first large-scale operation by the US. Although the Normandy Invasion is considered to be the iconic amphibious operation\, these tactics had been put to use earlier in North Africa during Operation Torch. Camp Gordon Johnston Museum is located at 1873 Hwy 98 West in Carrabelle. The museum is open Tuesday through Saturday from 11 am   5 pm. There is no charge for admission.  Funded in part by the Franklin County Tourist Development Council.  For more info: (850) 697-8575 or campgordonjohnston.com.
X-ALT-DESC;FMTTYPE=text/html:<span style="border: 0px\; font-variant-numeric: inherit\; font-variant-east-asian: inherit\; font-stretch: inherit\; font-size: 14pt\; line-height: inherit\; font-family: Calibri\, &quot\;sans-serif&quot\;\; margin: 0px\; padding: 0px\; vertical-align: baseline\; color: rgb(0\, 0\, 0)\;">The Camp Gordon Johnston World War II Museum in Carrabelle has extended their special exhibit on Operation Torch: the Campaign in North Africa through Saturday\, September 3</span><span style="border: 0px\; font-variant-numeric: inherit\; font-variant-east-asian: inherit\; font-stretch: inherit\; font-size: 14pt\; line-height: inherit\; font-family: Calibri\, &quot\;sans-serif&quot\;\; margin: 0px\; padding: 0px\; vertical-align: baseline\; color: rgb(0\, 0\, 0)\;"><sup>rd</sup></span><span style="border: 0px\; font-variant-numeric: inherit\; font-variant-east-asian: inherit\; font-stretch: inherit\; font-size: 14pt\; line-height: inherit\; font-family: Calibri\, &quot\;sans-serif&quot\;\; margin: 0px\; padding: 0px\; vertical-align: baseline\; color: rgb(0\, 0\, 0)\;">.&nbsp\;</span><span style="border: 0px\; font-variant-numeric: inherit\; font-variant-east-asian: inherit\; font-stretch: inherit\; font-size: 14pt\; line-height: inherit\; font-family: Calibri\, &quot\;sans-serif&quot\;\; margin: 0px\; padding: 0px\; vertical-align: baseline\; color: rgb(0\, 0\, 0)\;">&nbsp\;</span><span style="border: 0px\; font-variant-numeric: inherit\; font-variant-east-asian: inherit\; font-stretch: inherit\; font-size: 14pt\; line-height: inherit\; font-family: Calibri\, &quot\;sans-serif&quot\;\; margin: 0px\; padding: 0px\; vertical-align: baseline\; color: rgb(0\, 0\, 0)\;">Operation Torch\, held in November of 1942\, was the first large-scale operation by the US. Although the Normandy Invasion is considered to be the iconic amphibious operation\, these tactics had been put to use earlier in North Africa during Operation Torch. Camp Gordon Johnston Museum is located at 1873 Hwy 98 West in Carrabelle. The museum is open Tuesday through Saturday from 11 am &ndash\; 5 pm. There is no charge for admission.</span><span style="border: 0px\; font-variant-numeric: inherit\; font-variant-east-asian: inherit\; font-stretch: inherit\; font-size: 14pt\; line-height: inherit\; font-family: Calibri\, &quot\;sans-serif&quot\;\; margin: 0px\; padding: 0px\; vertical-align: baseline\; color: rgb(0\, 0\, 0)\;">&nbsp\;&nbsp\;</span><span style="border: 0px\; font-variant-numeric: inherit\; font-variant-east-asian: inherit\; font-stretch: inherit\; font-size: 14pt\; line-height: inherit\; font-family: Calibri\, &quot\;sans-serif&quot\;\; margin: 0px\; padding: 0px\; vertical-align: baseline\; color: rgb(0\, 0\, 0)\;">Funded in part by the Franklin County Tourist Development Council.&nbsp\;&nbsp\;</span><span style="border: 0px\; font-variant-numeric: inherit\; font-variant-east-asian: inherit\; font-stretch: inherit\; font-size: 14pt\; line-height: inherit\; font-family: Calibri\, &quot\;sans-serif&quot\;\; margin: 0px\; padding: 0px\; vertical-align: baseline\; color: rgb(0\, 0\, 0)\;">For more info: (850) 697-8575 or campgordonjohnston.com.</span>
LOCATION:The Camp Gordon Johnston World War II Museum in Carrabelle\, FL
UID:e.2541.17992
SEQUENCE:3
DTSTAMP:20260421T054115Z
URL:https://business.gulfchamber.org/events/details/operation-tourch-17992
END:VEVENT

END:VCALENDAR
