BEGIN:VCALENDAR
VERSION:2.0
PRODID:-//ChamberMaster//Event Calendar 2.0//EN
METHOD:PUBLISH
X-PUBLISHED-TTL:P3D
REFRESH-INTERVAL:P3D
CALSCALE:GREGORIAN
BEGIN:VEVENT
DTSTART:20220702T130000Z
DTEND:20220702T170000Z
X-MICROSOFT-CDO-ALLDAYEVENT:FALSE
SUMMARY:Saltair Farmers' Market
DESCRIPTION:A farmers' and crafts market \n\nseasonal produce\, grass fed meats\, local seafood\, hand crafted foods\, jewelry\, furniture\, and decor items
X-ALT-DESC;FMTTYPE=text/html:A farmers&#39\; and crafts market&nbsp\;<br />\nseasonal produce\, grass fed meats\, local seafood\, hand crafted foods\, jewelry\, furniture\, and decor items
LOCATION:City Commons --the park at US 71 and Reid Ave. Downtown Port St Joe FL
UID:e.2541.17888
SEQUENCE:3
DTSTAMP:20260421T054853Z
URL:https://business.gulfchamber.org/events/details/saltair-farmers-market-07-02-2022-17888
END:VEVENT

END:VCALENDAR
