BEGIN:VCALENDAR
VERSION:2.0
PRODID:-//ChamberMaster//Event Calendar 2.0//EN
METHOD:PUBLISH
X-PUBLISHED-TTL:P3D
REFRESH-INTERVAL:P3D
CALSCALE:GREGORIAN
BEGIN:VEVENT
DTSTART;VALUE=DATE:20230902
DTEND;VALUE=DATE:20230904
TRANSP:TRANSPARENT
X-MICROSOFT-CDO-ALLDAYEVENT:TRUE
SUMMARY:Scallop Festival - Tickets
DESCRIPTION:Scallop Festival will be held on September 2 and 3\, 2023 in George Core Park in Port St Joe Florida.\n\nFeaturing amazing music\, awesome art and plenty of seafood food (and other food) vendors!\n\nAdvance Tickets are Available for $10 a day\n\nTickets at the Entrance Gate are $15 each day.
X-ALT-DESC;FMTTYPE=text/html:<div class="kvgmc6g5 cxmmr5t8 oygrvhab hcukyx3x c1et5uql ii04i59q" color:="" font-size:="" segoe="" style="overflow-wrap: break-word\; margin: 0px\;" ui="">\n<div dir="auto" style=""><font face="arial"><span style="font-size: 16px\; white-space: pre-wrap\;">Scallop Festival will be held on September 2 and 3\, 2023 in George Core Park in Port St Joe Florida.</span></font><br />\n<font face="arial"><span style="font-size: 16px\; white-space: pre-wrap\;">Featuring amazing music\, awesome art and plenty of seafood food (and other food) vendors!</span></font><br />\n<span style="font-size: 24px\;">Advance Tickets are&nbsp\;Available for $10 a day<br />\nTickets at the Entrance Gate are $15&nbsp\;each day.</span></div>\n</div>\n
LOCATION:George Core Park in Port St Joe Florida
UID:e.2541.18448
SEQUENCE:3
DTSTAMP:20260423T041007Z
URL:https://business.gulfchamber.org/events/details/scallop-festival-tickets-18448
END:VEVENT

END:VCALENDAR
