BEGIN:VCALENDAR
VERSION:2.0
PRODID:-//ChamberMaster//Event Calendar 2.0//EN
METHOD:PUBLISH
X-PUBLISHED-TTL:P3D
REFRESH-INTERVAL:P3D
CALSCALE:GREGORIAN
BEGIN:VEVENT
DTSTART:20230711T143000Z
DTEND:20230711T170000Z
X-MICROSOFT-CDO-ALLDAYEVENT:FALSE
SUMMARY:Sources of Funding for Small Business
DESCRIPTION:This workshop is for you if you're considering starting a business or are currently in business and want to see what funding options are available. Topics include guidance on what financial institutions consider when assessing a loan application\, what tasks you need to complete before going to a bank to obtain funding\, and the ins and outs of SBA loans. Lunch provided compliments of Ameris Bank. Presented by Terry Mauer\, Associate Director\, Florida SBDC at UWF\, Lyndsey Blanks\, Business Development Officer\, Government Guaranteed Lending at Ameris Bank\, and Marsha Asbury-Turner\, Business Development Officer\, Florida First Capital Finance Corporation. To register\, visit sbdc.uwf.edu and open "Training & Events".  Sponsored by Ameris Bank\, Florida First Capital Finance Corp\, Cadence Bank and Wells Fargo.
X-ALT-DESC;FMTTYPE=text/html:<span style="color:#3C4043"><span style="font-family:calibri\,sans-serif">This workshop is for you if you&#39\;re considering starting a business or are currently in business and want to see what funding options are available. Topics include guidance on what financial institutions consider when assessing a loan application\, what tasks you need to complete before going to a bank to obtain funding\, and the ins and outs of SBA loans.</span></span> <span style="font-family:calibri\,sans-serif">Lunch provided compliments of Ameris Bank. <span style="color:black">Presented by Terry Mauer\, Associate Director\, Florida SBDC at UWF\, Lyndsey Blanks\, <em><span style="font-family:calibri\,sans-serif">Business Development Officer</span></em>\,&nbsp\;<em><span style="font-family:calibri\,sans-serif">Government Guaranteed Lending</span></em>&nbsp\;at Ameris Bank</span><span style="color:#4D5156">\, and Marsha Asbury-Turner\, </span><span style="color:#3C4043">Business Development Officer\, Florida First Capital Finance Corporation</span><span style="color:black">. </span><span style="color:black">To register\, visit sbdc.uwf.edu and open &ldquo\;Training &amp\; Events&rdquo\;.&nbsp\; </span><span style="color:#222222">Sponsored by Ameris Bank\, Florida First Capital Finance Corp\, Cadence Bank and Wells Fargo.</span></span>
LOCATION:Bay County Chamber of Commerce\, 235 W 5th St\, Panama City\, FL 32401
UID:e.2541.18450
SEQUENCE:3
DTSTAMP:20260423T101338Z
URL:https://business.gulfchamber.org/events/details/sources-of-funding-for-small-business-07-11-2023-18450
END:VEVENT

END:VCALENDAR
