BEGIN:VCALENDAR
VERSION:2.0
PRODID:-//ChamberMaster//Event Calendar 2.0//EN
METHOD:PUBLISH
X-PUBLISHED-TTL:P3D
REFRESH-INTERVAL:P3D
CALSCALE:GREGORIAN
BEGIN:VEVENT
DTSTART:20230113T050000Z
DTEND:20230217T050000Z
X-MICROSOFT-CDO-ALLDAYEVENT:FALSE
SUMMARY:STEP INTO MY STUDIO (SIMS)
DESCRIPTION:Want more ART in your life? Immerse yourself in your local art community here at The Joe Center for the Arts. Step Into My Studio (SIMS) 2023 is the perfect combination that allows you to learn the art directly from the artist. January 13 - February 18\, 2023\n\n \n\n\n\nDon't MISS OUT by waiting too long! Some classes are already or near SOLD OUT. For the current lineup of classes and to register/pay: https://thejoecenterforthearts41.wildapricot.org/page-18189\n\n\n \n\n\n\n\n\nOpening reception is Friday\, January 13th from 6-8 PM ET where you'll be able to meet all the Artists who'll be teaching.\n\n \n\n\n\n201 Reid Avenue in Port St. Joe
X-ALT-DESC;FMTTYPE=text/html:<div>\n<div>Want more ART in your life? Immerse yourself in your local art community here at <span style="font-family:inherit"><a class="x1i10hfl xjbqb8w x6umtig x1b1mbwd xaqea5y xav7gou x9f619 x1ypdohk xt0psk2 xe8uvvx xdj266r x11i5rnm xat24cr x1mh8g0r xexx8yu x4uap5 x18d9i69 xkhd6sd x16tdsg8 x1hl2dhg xggy1nq x1a2a7pz xt0b8zv x1qq9wsj xo1l8bm" href="https://www.facebook.com/TheJoeCenterForTheArts/?__cft__[0]=AZXZc2-WMTqYaegSmQ_LErGnvi35YgoOd7NKnaUMxldeKdpqVGF0CrXPubXMTDYtHQYubQzPxfRkq1-EMcPG9m4M780jvUQ7NYuus98DVc4DDmfTCRDSaXr6chunjqvb04-vV0rkxkGNl1b2C7erVzzYG2qOBsvhz9rHLPFnXL2Uike9qmKGN8kJS41As4T1p1KW6_gJdZsL2iDtA9vhwtj4&amp\;__tn__=kK-R" style="cursor: pointer\; text-decoration-line: none\; margin: 0px\; text-align: inherit\; padding: 0px\; outline: none\; border-width: 0px\; border-style: initial\; border-color: initial\; -webkit-tap-highlight-color: transparent\; box-sizing: border-box\; list-style: none\; touch-action: manipulation\; background-color: transparent\; display: inline-block\; font-family: inherit\;" tabindex="0"><span style="font-family:inherit">The Joe Center for the Arts</span></a></span>. Step Into My Studio (SIMS) 2023 is the perfect combination that allows you to learn the art directly from the artist. January 13 - February 18\, 2023<br />\n&nbsp\;</div>\n</div>\n\n<div>\n<div>Don&#39\;t MISS OUT by waiting too long! Some classes are already or near SOLD OUT. For the current lineup of classes and to register/pay: <span style="font-family:inherit"><a class="x1i10hfl xjbqb8w x6umtig x1b1mbwd xaqea5y xav7gou x9f619 x1ypdohk xt0psk2 xe8uvvx xdj266r x11i5rnm xat24cr x1mh8g0r xexx8yu x4uap5 x18d9i69 xkhd6sd x16tdsg8 x1hl2dhg xggy1nq x1a2a7pz xt0b8zv x1fey0fg" href="https://thejoecenterforthearts41.wildapricot.org/page-18189?fbclid=IwAR2XPcKhaTh21ZzbubsDK0hT80rxPk2rTnUZZQD5UGESL1ZGLeAcZYx8RVY" rel="nofollow noopener" style="cursor: pointer\; text-decoration-line: none\; margin: 0px\; text-align: inherit\; padding: 0px\; outline: none\; border-width: 0px\; border-style: initial\; border-color: initial\; -webkit-tap-highlight-color: transparent\; box-sizing: border-box\; list-style: none\; touch-action: manipulation\; background-color: transparent\; display: inline-block\; font-family: inherit\;" tabindex="0" target="_blank">https://thejoecenterforthearts41.wildapricot.org/page-18189</a></span>\n\n<div>\n<div>&nbsp\;</div>\n</div>\n</div>\n</div>\n\n<div>\n<div>Opening reception is Friday\, January 13th from 6-8 PM ET where you&#39\;ll be able to meet all the Artists who&#39\;ll be teaching.<br />\n&nbsp\;</div>\n</div>\n\n<div>\n<div>201 Reid Avenue in Port St. Joe</div>\n</div>\n
LOCATION:THE JOE CENTER FOR THE ARTS 201 REID AVENUE PORT ST. JOE
UID:e.2541.18092
SEQUENCE:3
DTSTAMP:20260423T013236Z
URL:https://business.gulfchamber.org/events/details/step-into-my-studio-sims-18092
END:VEVENT

END:VCALENDAR
