BEGIN:VCALENDAR
VERSION:2.0
PRODID:-//ChamberMaster//Event Calendar 2.0//EN
METHOD:PUBLISH
X-PUBLISHED-TTL:P3D
REFRESH-INTERVAL:P3D
CALSCALE:GREGORIAN
BEGIN:VEVENT
DTSTART;VALUE=DATE:20230422
DTEND;VALUE=DATE:20230423
TRANSP:TRANSPARENT
X-MICROSOFT-CDO-ALLDAYEVENT:TRUE
SUMMARY:WindMark Beach Block Party
DESCRIPTION:Enjoy an afternoon outside exploring the WindMark Beach community! Enjoy live music\, test ride a YOLO bike along the BeachWalk\, tour the D.R. Horton Model Home\, and more. Hope you can join us!\n\nThe first 50 families to visit all of the designated WindMark Beach Block Party locations will receive a goodie bag which includes one FREE lunch buffet from WindMark Beach Bruno's Pizza\, and other giveaways & discounts from several Village Center tenants!\n\nWindMark Beach Block Party Activities:\n\n  Live Music\, Lawn Games\, Balloon Animals & Face Painting\n\n  Test ride a YOLO bike along the BeachWalk\n\n  D.R. Horton Model Home available for tour\n\n  Visit with Village Center Tenants
X-ALT-DESC;FMTTYPE=text/html:<div class="x11i5rnm xat24cr x1mh8g0r x1vvkbs xdj266r" style="margin: 0px\; overflow-wrap: break-word\; font-family: &quot\;Segoe UI Historic&quot\;\, &quot\;Segoe UI&quot\;\, Helvetica\, Arial\, sans-serif\; color: rgb(5\, 5\, 5)\; font-size: 18.75px\;">Enjoy an afternoon outside exploring the WindMark Beach community! Enjoy live music\, test ride a YOLO bike along the BeachWalk\, tour the D.R. Horton Model Home\, and more. Hope you can join us!</div>\n\n<div class="x11i5rnm xat24cr x1mh8g0r x1vvkbs xtlvy1s" style="margin: 0.5em 0px 0px\; overflow-wrap: break-word\; font-family: &quot\;Segoe UI Historic&quot\;\, &quot\;Segoe UI&quot\;\, Helvetica\, Arial\, sans-serif\; color: rgb(5\, 5\, 5)\; font-size: 18.75px\;">The first 50 families to visit all of the designated WindMark Beach Block Party locations will receive a goodie bag which includes one FREE lunch buffet from WindMark Beach Bruno&#39\;s Pizza\, and other giveaways &amp\; discounts from several Village Center tenants!</div>\n\n<div class="x11i5rnm xat24cr x1mh8g0r x1vvkbs xtlvy1s" style="margin: 0.5em 0px 0px\; overflow-wrap: break-word\; font-family: &quot\;Segoe UI Historic&quot\;\, &quot\;Segoe UI&quot\;\, Helvetica\, Arial\, sans-serif\; color: rgb(5\, 5\, 5)\; font-size: 18.75px\;">WindMark Beach Block Party Activities:<br />\n&bull\; Live Music\, Lawn Games\, Balloon Animals &amp\; Face Painting<br />\n&bull\; Test ride a YOLO bike along the BeachWalk<br />\n&bull\; D.R. Horton Model Home available for tour<br />\n&bull\; Visit with Village Center Tenants</div>\n
LOCATION:WindMark Beach
UID:e.2541.18439
SEQUENCE:3
DTSTAMP:20260425T223638Z
URL:https://business.gulfchamber.org/events/details/windmark-beach-block-party-18439
END:VEVENT

END:VCALENDAR
